BEGIN:VCALENDAR
VERSION:2.0
PRODID:-//AME Church - ECPv6.15.20//NONSGML v1.0//EN
CALSCALE:GREGORIAN
METHOD:PUBLISH
X-WR-CALNAME:AME Church
X-ORIGINAL-URL:https://www.ame-church.com
X-WR-CALDESC:Events for AME Church
REFRESH-INTERVAL;VALUE=DURATION:PT1H
X-Robots-Tag:noindex
X-PUBLISHED-TTL:PT1H
BEGIN:VTIMEZONE
TZID:America/Chicago
BEGIN:DAYLIGHT
TZOFFSETFROM:-0600
TZOFFSETTO:-0500
TZNAME:CDT
DTSTART:20220313T080000
END:DAYLIGHT
BEGIN:STANDARD
TZOFFSETFROM:-0500
TZOFFSETTO:-0600
TZNAME:CST
DTSTART:20221106T070000
END:STANDARD
BEGIN:DAYLIGHT
TZOFFSETFROM:-0600
TZOFFSETTO:-0500
TZNAME:CDT
DTSTART:20230312T080000
END:DAYLIGHT
BEGIN:STANDARD
TZOFFSETFROM:-0500
TZOFFSETTO:-0600
TZNAME:CST
DTSTART:20231105T070000
END:STANDARD
BEGIN:DAYLIGHT
TZOFFSETFROM:-0600
TZOFFSETTO:-0500
TZNAME:CDT
DTSTART:20240310T080000
END:DAYLIGHT
BEGIN:STANDARD
TZOFFSETFROM:-0500
TZOFFSETTO:-0600
TZNAME:CST
DTSTART:20241103T070000
END:STANDARD
BEGIN:DAYLIGHT
TZOFFSETFROM:-0600
TZOFFSETTO:-0500
TZNAME:CDT
DTSTART:20250309T080000
END:DAYLIGHT
BEGIN:STANDARD
TZOFFSETFROM:-0500
TZOFFSETTO:-0600
TZNAME:CST
DTSTART:20251102T070000
END:STANDARD
BEGIN:DAYLIGHT
TZOFFSETFROM:-0600
TZOFFSETTO:-0500
TZNAME:CDT
DTSTART:20260308T080000
END:DAYLIGHT
BEGIN:STANDARD
TZOFFSETFROM:-0500
TZOFFSETTO:-0600
TZNAME:CST
DTSTART:20261101T070000
END:STANDARD
END:VTIMEZONE
BEGIN:VEVENT
DTSTART;TZID=America/Chicago:20250402T000000
DTEND;TZID=America/Chicago:20250405T000000
DTSTAMP:20260421T060942
CREATED:20250205T211137Z
LAST-MODIFIED:20250205T211137Z
UID:8622-1743552000-1743811200@www.ame-church.com
SUMMARY:Sixth Episcopal District: Georgia Annual Conference
DESCRIPTION:
URL:https://www.ame-church.com/event/sixth-episcopal-district-georgia-annual-conference/
LOCATION:Pleasant Grove AME Church\, Hinesville\, GA
CATEGORIES:Connectional Calendar
END:VEVENT
BEGIN:VEVENT
DTSTART;TZID=America/Chicago:20250320T000000
DTEND;TZID=America/Chicago:20250322T000000
DTSTAMP:20260421T060942
CREATED:20250205T211137Z
LAST-MODIFIED:20250214T160010Z
UID:8621-1742428800-1742601600@www.ame-church.com
SUMMARY:Annual Ministries in Christian Education Training and Planning Meeting
DESCRIPTION:
URL:https://www.ame-church.com/event/annual-ministries-in-christian-education-training-and-planning-meeting/
LOCATION:TBA – Nashville\, TN
CATEGORIES:Connectional Calendar
END:VEVENT
BEGIN:VEVENT
DTSTART;TZID=America/Chicago:20250319T000000
DTEND;TZID=America/Chicago:20250322T000000
DTSTAMP:20260421T060942
CREATED:20250205T211136Z
LAST-MODIFIED:20250205T211136Z
UID:8620-1742342400-1742601600@www.ame-church.com
SUMMARY:Sixth Episcopal District: Southwest Georgia Annual Conference
DESCRIPTION:
URL:https://www.ame-church.com/event/sixth-episcopal-district-southwest-georgia-annual-conference/
LOCATION:TBA
CATEGORIES:Connectional Calendar
END:VEVENT
BEGIN:VEVENT
DTSTART;TZID=America/Chicago:20250313T000000
DTEND;TZID=America/Chicago:20250315T000000
DTSTAMP:20260421T060942
CREATED:20250205T211136Z
LAST-MODIFIED:20250205T211136Z
UID:8619-1741824000-1741996800@www.ame-church.com
SUMMARY:First Episcopal District: Delaware Annual Conference
DESCRIPTION:
URL:https://www.ame-church.com/event/first-episcopal-district-delaware-annual-conference/
LOCATION:Mount Zion AME Church\, Dover\, DE
CATEGORIES:Connectional Calendar
END:VEVENT
BEGIN:VEVENT
DTSTART;TZID=America/Chicago:20250306T000000
DTEND;TZID=America/Chicago:20250309T000000
DTSTAMP:20260421T060942
CREATED:20250205T211136Z
LAST-MODIFIED:20250205T211136Z
UID:8618-1741219200-1741478400@www.ame-church.com
SUMMARY:First Episcopal District: Bermuda Annual Conference
DESCRIPTION:
URL:https://www.ame-church.com/event/first-episcopal-district-bermuda-annual-conference/
LOCATION:St. Paul AME Church\, Vernon Temple AME Church\, Southampton\, Bermuda; Hamilton\, Bermuda
CATEGORIES:Connectional Calendar
END:VEVENT
BEGIN:VEVENT
DTSTART;TZID=America/Chicago:20250305T000000
DTEND;TZID=America/Chicago:20250309T000000
DTSTAMP:20260421T060942
CREATED:20250205T211134Z
LAST-MODIFIED:20250214T155706Z
UID:8617-1741132800-1741478400@www.ame-church.com
SUMMARY:Sixth Episcopal District: South Georgia Annual Conference
DESCRIPTION:
URL:https://www.ame-church.com/event/sixth-episcopal-district-south-georgia-annual-conference/
LOCATION:St. Paul AME Church Valdosta\, GA\, Valdosta\, GA
CATEGORIES:Connectional Calendar
END:VEVENT
BEGIN:VEVENT
DTSTART;TZID=America/Chicago:20250214T000000
DTEND;TZID=America/Chicago:20250214T000000
DTSTAMP:20260421T060942
CREATED:20250205T211134Z
LAST-MODIFIED:20250205T211134Z
UID:8616-1739491200-1739491200@www.ame-church.com
SUMMARY:AME Church Founder's Day
DESCRIPTION:
URL:https://www.ame-church.com/event/ame-church-founders-day/
LOCATION:KY
CATEGORIES:Connectional Calendar
END:VEVENT
BEGIN:VEVENT
DTSTART;TZID=America/Chicago:20250123T000000
DTEND;TZID=America/Chicago:20250125T000000
DTSTAMP:20260421T060942
CREATED:20250205T211134Z
LAST-MODIFIED:20250205T211134Z
UID:8615-1737590400-1737763200@www.ame-church.com
SUMMARY:Bishops Council Retreat
DESCRIPTION:
URL:https://www.ame-church.com/event/bishops-council-retreat/
LOCATION:Hyatt Regency Garden Grove\, Garden Grove\, CA
CATEGORIES:Connectional Calendar
END:VEVENT
BEGIN:VEVENT
DTSTART;TZID=America/Chicago:20250122T000000
DTEND;TZID=America/Chicago:20250125T000000
DTSTAMP:20260421T060942
CREATED:20250205T211134Z
LAST-MODIFIED:20250205T211134Z
UID:8614-1737504000-1737763200@www.ame-church.com
SUMMARY:WMS Executive Board Meeting and Leadership Training Institute
DESCRIPTION:
URL:https://www.ame-church.com/event/wms-executive-board-meeting-and-leadership-training-institute/
LOCATION:Hyatt Regency Garden Grove\, Garden Grove\, CA
CATEGORIES:Connectional Calendar
END:VEVENT
BEGIN:VEVENT
DTSTART;VALUE=DATE:20250113
DTEND;VALUE=DATE:20250117
DTSTAMP:20260421T060942
CREATED:20250108T172339Z
LAST-MODIFIED:20250108T172404Z
UID:8546-1736726400-1737071999@www.ame-church.com
SUMMARY:AME Department of Church Growth and Development Seminar 2025
DESCRIPTION:Event Information
URL:https://www.ame-church.com/event/ame-department-of-church-growth-and-development-seminar-2025/
LOCATION:Union Bethel AME Church\, New Orleans\, LA\, LA
END:VEVENT
BEGIN:VEVENT
DTSTART;TZID=America/Chicago:20250113T000000
DTEND;TZID=America/Chicago:20250116T000000
DTSTAMP:20260421T060942
CREATED:20250205T211133Z
LAST-MODIFIED:20250205T211133Z
UID:8613-1736726400-1736985600@www.ame-church.com
SUMMARY:AME Department of Church Growth & Development 37th Annual Church Growth Seminar
DESCRIPTION:
URL:https://www.ame-church.com/event/ame-department-of-church-growth-development-37th-annual-church-growth-seminar/
LOCATION:Union Bethel AME Church\, New Orleans\, LA\, LA
CATEGORIES:Connectional Calendar
END:VEVENT
BEGIN:VEVENT
DTSTART;VALUE=DATE:20241204
DTEND;VALUE=DATE:20241206
DTSTAMP:20260421T060942
CREATED:20241103T155901Z
LAST-MODIFIED:20241118T192904Z
UID:8511-1733270400-1733443199@www.ame-church.com
SUMMARY:December General Board Meeting 2024
DESCRIPTION:Register Now \nALL OBSERVERS\, VISITORS AND GUESTS ARE REQUIRED TO REGISTER. REGISTRATION CREDENTIALS ARE REQUIRED TO BE WORN BY ATTENDEES FOR ADMITTANCE TO PLENARY SESSIONS AND COMMISSION MEETINGS WORSHIP IS OPEN TO THE PUBLIC \nMake Hotel Reservations Now
URL:https://www.ame-church.com/event/december-general-board-meeting-2024/
LOCATION:Atlanta Marriott Marquis\, 265 Peachtree Center Ave NE\, Atlanta\, GA\, 30303\, United States
CATEGORIES:Board Meetings
ATTACH;FMTTYPE=image/jpeg:https://www.ame-church.com/wp-content/uploads/2024/10/GB-2024-Flyer.jpg
END:VEVENT
BEGIN:VEVENT
DTSTART;VALUE=DATE:20241105
DTEND;VALUE=DATE:20241106
DTSTAMP:20260421T060942
CREATED:20241002T023824Z
LAST-MODIFIED:20241002T133407Z
UID:8492-1730764800-1730851199@www.ame-church.com
SUMMARY:Election Day 2024
DESCRIPTION:
URL:https://www.ame-church.com/event/election-day-2024/
LOCATION:KY
END:VEVENT
BEGIN:VEVENT
DTSTART;VALUE=DATE:20240502
DTEND;VALUE=DATE:20240505
DTSTAMP:20260421T060942
CREATED:20231018T195217Z
LAST-MODIFIED:20231018T195442Z
UID:8169-1714608000-1714867199@www.ame-church.com
SUMMARY:AME Church Scholars Conference
DESCRIPTION:May 2-4\, 2024
URL:https://www.ame-church.com/event/ame-church-scholars-conference/
LOCATION:KY
CATEGORIES:Conferences
END:VEVENT
BEGIN:VEVENT
DTSTART;VALUE=DATE:20240411
DTEND;VALUE=DATE:20240414
DTSTAMP:20260421T060942
CREATED:20231018T195345Z
LAST-MODIFIED:20231018T195427Z
UID:8170-1712793600-1713052799@www.ame-church.com
SUMMARY:CLO Spring Executive Board Meeting
DESCRIPTION:April 11-13\, 2024 \nBirmingham\, AL
URL:https://www.ame-church.com/event/clo-spring-executive-board-meeting-2/
LOCATION:KY
CATEGORIES:Board Meetings
END:VEVENT
BEGIN:VEVENT
DTSTART;VALUE=DATE:20240321
DTEND;VALUE=DATE:20240324
DTSTAMP:20260421T060942
CREATED:20231018T195638Z
LAST-MODIFIED:20231018T195638Z
UID:8171-1710979200-1711238399@www.ame-church.com
SUMMARY:2024 Annual Ministries in Christian Education Training/Planning Meeting
DESCRIPTION:March 21-23\, 2024 \nSt. Paul AME Church \nMontgomery\, AL
URL:https://www.ame-church.com/event/2024-annual-ministries-in-christian-education-training-planning-meeting/
LOCATION:KY
END:VEVENT
BEGIN:VEVENT
DTSTART;VALUE=DATE:20240220
DTEND;VALUE=DATE:20240224
DTSTAMP:20260421T060942
CREATED:20231018T200159Z
LAST-MODIFIED:20231018T200436Z
UID:8173-1708387200-1708732799@www.ame-church.com
SUMMARY:2024 Global Development Council
DESCRIPTION:February 20-23\, 2024 \nJohannesburg\, South Africa \nClick the link for more details:  http://www.gdcamec2024.org
URL:https://www.ame-church.com/event/2024-global-development-council/
LOCATION:KY
CATEGORIES:Meetings
END:VEVENT
BEGIN:VEVENT
DTSTART;VALUE=DATE:20240204
DTEND;VALUE=DATE:20240207
DTSTAMP:20260421T060942
CREATED:20231018T195854Z
LAST-MODIFIED:20231018T195854Z
UID:8172-1707004800-1707263999@www.ame-church.com
SUMMARY:Turner Theological Seminary 130th Founders Observance
DESCRIPTION:February 4-6\, 2024
URL:https://www.ame-church.com/event/turner-theological-seminary-130th-founders-observance/
LOCATION:KY
END:VEVENT
BEGIN:VEVENT
DTSTART;VALUE=DATE:20240124
DTEND;VALUE=DATE:20240128
DTSTAMP:20260421T060942
CREATED:20231018T200359Z
LAST-MODIFIED:20231018T200359Z
UID:8174-1706054400-1706399999@www.ame-church.com
SUMMARY:Women's Missionary Society Executive Board Meeting 2024
DESCRIPTION:January 24-27\, 2024 \nLittle Rock\, AR
URL:https://www.ame-church.com/event/womens-missionary-society-executive-board-meeting-2024/
LOCATION:KY
END:VEVENT
BEGIN:VEVENT
DTSTART;VALUE=DATE:20240116
DTEND;VALUE=DATE:20240119
DTSTAMP:20260421T060942
CREATED:20231018T201007Z
LAST-MODIFIED:20231018T201007Z
UID:8176-1705363200-1705622399@www.ame-church.com
SUMMARY:2024 Church Growth Seminar
DESCRIPTION:Department of Church Growth and Development \nJanuary 16-18\, 2024 \nSan Antonio\, TX
URL:https://www.ame-church.com/event/2024-church-growth-seminar/
LOCATION:KY
CATEGORIES:Conferences
END:VEVENT
BEGIN:VEVENT
DTSTART;VALUE=DATE:20231227
DTEND;VALUE=DATE:20231231
DTSTAMP:20260421T060942
CREATED:20231018T201130Z
LAST-MODIFIED:20231018T202746Z
UID:8177-1703635200-1703980799@www.ame-church.com
SUMMARY:Music and Christian Arts Conference 2023
DESCRIPTION:December 27-30\, 2023 \nMemphis\, TN
URL:https://www.ame-church.com/event/music-and-christian-arts-conference-2023/
LOCATION:KY
CATEGORIES:Conferences
END:VEVENT
BEGIN:VEVENT
DTSTART;VALUE=DATE:20231213
DTEND;VALUE=DATE:20231215
DTSTAMP:20260421T060942
CREATED:20231018T201311Z
LAST-MODIFIED:20231206T203744Z
UID:8178-1702425600-1702598399@www.ame-church.com
SUMMARY:CONVO XI
DESCRIPTION:December 13-14\, 2023 \nHilton Columbus Downtown Hotel\nColumbus\, OH \nGET DIRECTIONS \n \nClick on the QR Code below to view and download the CONVO Meeting Agenda and Legislation: \n \nIf you have problems accessing the CONVO Agenda and Legislation\, click on the link below to download a PDF version: \nCONOV XI Dec\, 2023 booklet – Final
URL:https://www.ame-church.com/event/convo-xi/
LOCATION:Hilton Columbus Downtown\, 402 N High St\, Columbus\, OH\, 43215
CATEGORIES:Meetings
ATTACH;FMTTYPE=image/jpeg:https://www.ame-church.com/wp-content/uploads/2023/10/Convo-XI-Flyer1.jpg
END:VEVENT
BEGIN:VEVENT
DTSTART;VALUE=DATE:20231208
DTEND;VALUE=DATE:20231209
DTSTAMP:20260421T060942
CREATED:20231018T201441Z
LAST-MODIFIED:20231018T202847Z
UID:8179-1701993600-1702079999@www.ame-church.com
SUMMARY:Virtual CLO Executive Board Meeting 2023
DESCRIPTION:December 8\, 2023
URL:https://www.ame-church.com/event/virtual-clo-executive-board-meeting-2023/
LOCATION:KY
CATEGORIES:Board Meetings
END:VEVENT
BEGIN:VEVENT
DTSTART;VALUE=DATE:20231201
DTEND;VALUE=DATE:20231204
DTSTAMP:20260421T060942
CREATED:20231018T201642Z
LAST-MODIFIED:20231018T202818Z
UID:8180-1701388800-1701647999@www.ame-church.com
SUMMARY:CONN-M-SWAWO+PKs - Virtual Retreat
DESCRIPTION:December 1-3\, 2023
URL:https://www.ame-church.com/event/conn-m-swawopks-virtual-retreat/
LOCATION:KY
CATEGORIES:Retreats
END:VEVENT
BEGIN:VEVENT
DTSTART;VALUE=DATE:20231102
DTEND;VALUE=DATE:20231106
DTSTAMP:20260421T060942
CREATED:20231018T201806Z
LAST-MODIFIED:20231018T201806Z
UID:8181-1698883200-1699228799@www.ame-church.com
SUMMARY:2023 General Officers' Retreat
DESCRIPTION:November 2-5\, 2023
URL:https://www.ame-church.com/event/2023-general-officers-retreat/
LOCATION:KY
CATEGORIES:Retreats
END:VEVENT
BEGIN:VEVENT
DTSTART;VALUE=DATE:20231020
DTEND;VALUE=DATE:20231022
DTSTAMP:20260421T060942
CREATED:20231018T200708Z
LAST-MODIFIED:20231018T200811Z
UID:8175-1697760000-1697932799@www.ame-church.com
SUMMARY:34th NGO Conference 2023
DESCRIPTION:October 20-21\, 2023 \nClick link to register:  https://www.jotform.com/232594822320150
URL:https://www.ame-church.com/event/2023-ngo-conference/
LOCATION:KY
CATEGORIES:Conferences
END:VEVENT
BEGIN:VEVENT
DTSTART;VALUE=DATE:20230725
DTEND;VALUE=DATE:20230804
DTSTAMP:20260421T060942
CREATED:20230404T145933Z
LAST-MODIFIED:20230404T182711Z
UID:8042-1690243200-1691107199@www.ame-church.com
SUMMARY:20th WMS & YPD Quadrennial Convention 2023
DESCRIPTION:WMS Quadrennial Registration link:\nhttps://arrowheadconferencesandevents.regfox.com/wms-quadrennial-2023 \nYPD Registration link:\nhttps://arrowheadconferencesandevents.regfox.com/ypd \nWMS Quadrennial VENDOR Opportunities:\nhttps://www.wms-amec.org/vendor.pdf \n 
URL:https://www.ame-church.com/event/20th-wms-quadrennial-convention/
LOCATION:KY
CATEGORIES:Conventions
END:VEVENT
BEGIN:VEVENT
DTSTART;VALUE=DATE:20230626
DTEND;VALUE=DATE:20230701
DTSTAMP:20260421T060942
CREATED:20230404T164342Z
LAST-MODIFIED:20230404T164342Z
UID:8061-1687737600-1688169599@www.ame-church.com
SUMMARY:2023 Connectional Lay Organization Biennial
DESCRIPTION:Click on the link below to download a PDF version of the flyer:\nFinal CLO Biennial Convention Registration Flyer Feb. 28 2023 \nClick on the link below to register for the Biennial:\nhttps://brushfire.com/connectional-lay-organization/CLO-Biennial2023/546405/register \n 
URL:https://www.ame-church.com/event/2023-connectional-lay-organization-biennial/
LOCATION:KY
END:VEVENT
BEGIN:VEVENT
DTSTART;VALUE=DATE:20230626
DTEND;VALUE=DATE:20230701
DTSTAMP:20260421T060942
CREATED:20230404T145811Z
LAST-MODIFIED:20230404T145811Z
UID:8040-1687737600-1688169599@www.ame-church.com
SUMMARY:CLO Biennial
DESCRIPTION:
URL:https://www.ame-church.com/event/clo-biennial/
LOCATION:KY
END:VEVENT
BEGIN:VEVENT
DTSTART;VALUE=DATE:20230621
DTEND;VALUE=DATE:20230623
DTSTAMP:20260421T060942
CREATED:20230404T145725Z
LAST-MODIFIED:20230404T145725Z
UID:8039-1687305600-1687478399@www.ame-church.com
SUMMARY:Save the Date: 2023 General Board Meeting
DESCRIPTION:
URL:https://www.ame-church.com/event/save-the-date-2023-general-board-meeting/
LOCATION:KY
CATEGORIES:Board Meetings
END:VEVENT
END:VCALENDAR