BEGIN:VCALENDAR
VERSION:2.0
PRODID:-//AME Church - ECPv6.15.20//NONSGML v1.0//EN
CALSCALE:GREGORIAN
METHOD:PUBLISH
X-WR-CALNAME:AME Church
X-ORIGINAL-URL:https://www.ame-church.com
X-WR-CALDESC:Events for AME Church
REFRESH-INTERVAL;VALUE=DURATION:PT1H
X-Robots-Tag:noindex
X-PUBLISHED-TTL:PT1H
BEGIN:VTIMEZONE
TZID:America/Chicago
BEGIN:DAYLIGHT
TZOFFSETFROM:-0600
TZOFFSETTO:-0500
TZNAME:CDT
DTSTART:20210314T080000
END:DAYLIGHT
BEGIN:STANDARD
TZOFFSETFROM:-0500
TZOFFSETTO:-0600
TZNAME:CST
DTSTART:20211107T070000
END:STANDARD
BEGIN:DAYLIGHT
TZOFFSETFROM:-0600
TZOFFSETTO:-0500
TZNAME:CDT
DTSTART:20220313T080000
END:DAYLIGHT
BEGIN:STANDARD
TZOFFSETFROM:-0500
TZOFFSETTO:-0600
TZNAME:CST
DTSTART:20221106T070000
END:STANDARD
BEGIN:DAYLIGHT
TZOFFSETFROM:-0600
TZOFFSETTO:-0500
TZNAME:CDT
DTSTART:20230312T080000
END:DAYLIGHT
BEGIN:STANDARD
TZOFFSETFROM:-0500
TZOFFSETTO:-0600
TZNAME:CST
DTSTART:20231105T070000
END:STANDARD
BEGIN:DAYLIGHT
TZOFFSETFROM:-0600
TZOFFSETTO:-0500
TZNAME:CDT
DTSTART:20240310T080000
END:DAYLIGHT
BEGIN:STANDARD
TZOFFSETFROM:-0500
TZOFFSETTO:-0600
TZNAME:CST
DTSTART:20241103T070000
END:STANDARD
END:VTIMEZONE
BEGIN:VEVENT
DTSTART;VALUE=DATE:20230619
DTEND;VALUE=DATE:20230622
DTSTAMP:20260423T031422
CREATED:20230404T162451Z
LAST-MODIFIED:20230612T163006Z
UID:8058-1687132800-1687391999@www.ame-church.com
SUMMARY:2023 Council of Bishops & General Board Meeting
DESCRIPTION:General Board – Proposed Agenda: \n2023 GeneralBoard Proposed Agenda final \nClick the link below for Hotel Reservations:\nhttps://book.resiada.com/jv397dlVPEmsibIAwHMelg/0QUgmVqjh0y-Bl4cYpNhow \nBishop Stafford Wicker Investiture Details: \nConnectional Investiture Packet Updated
URL:https://www.ame-church.com/event/2023-council-of-bishops-general-board-meeting/
CATEGORIES:Board Meetings
END:VEVENT
BEGIN:VEVENT
DTSTART;VALUE=DATE:20230530
DTEND;VALUE=DATE:20230601
DTSTAMP:20260423T031422
CREATED:20230404T161342Z
LAST-MODIFIED:20230404T161342Z
UID:8051-1685404800-1685577599@www.ame-church.com
SUMMARY:2023 International Stewardship and Economic Empowerment Summit
DESCRIPTION:       \nPlease click the button below to download a PDF version of the information above:\n2023 Economic Empowerment Summit \n 
URL:https://www.ame-church.com/event/2023-international-stewardship-and-economic-empowerment-summit-2/
CATEGORIES:Conferences
END:VEVENT
BEGIN:VEVENT
DTSTART;VALUE=DATE:20230530
DTEND;VALUE=DATE:20230601
DTSTAMP:20260423T031422
CREATED:20230404T145531Z
LAST-MODIFIED:20230404T145531Z
UID:8038-1685404800-1685577599@www.ame-church.com
SUMMARY:2023 International Stewardship and Economic Empowerment Summit
DESCRIPTION:
URL:https://www.ame-church.com/event/2023-international-stewardship-and-economic-empowerment-summit/
END:VEVENT
BEGIN:VEVENT
DTSTART;VALUE=DATE:20230414
DTEND;VALUE=DATE:20230416
DTSTAMP:20260423T031422
CREATED:20230404T155113Z
LAST-MODIFIED:20230404T155113Z
UID:8048-1681430400-1681603199@www.ame-church.com
SUMMARY:Connectional Lay Organization Spring Executive Board Meeting
DESCRIPTION:Click link below to download a PDF version of the flyer above: \nCLO SPRING EBM FINAL APRIL 2023 dhb \nClick the link below to register of the meeting: \nhttps://us02web.zoom.us/webinar/register/WN_HFzRF8NwTICQzPSVsk1v0w \nPlease Note: \n\nThe meeting is FREE!  There is no cost to participate.\nYou MUST register online in order to receive a link to join in the meeting.\n\n  \n 
URL:https://www.ame-church.com/event/connectional-lay-organization-spring-executive-board-meeting/
CATEGORIES:Board Meetings
END:VEVENT
BEGIN:VEVENT
DTSTART;VALUE=DATE:20230414
DTEND;VALUE=DATE:20230416
DTSTAMP:20260423T031422
CREATED:20230404T145448Z
LAST-MODIFIED:20230404T145448Z
UID:8037-1681430400-1681603199@www.ame-church.com
SUMMARY:CLO Spring Executive Board Meeting
DESCRIPTION:
URL:https://www.ame-church.com/event/clo-spring-executive-board-meeting/
CATEGORIES:Meetings
END:VEVENT
BEGIN:VEVENT
DTSTART;VALUE=DATE:20230413
DTEND;VALUE=DATE:20230416
DTSTAMP:20260423T031422
CREATED:20230404T154526Z
LAST-MODIFIED:20230404T154526Z
UID:8044-1681344000-1681603199@www.ame-church.com
SUMMARY:2023 Annual Meeting of the Ministries in Christian Education
DESCRIPTION:Registration Link:  https://ameced.com/MCE-2023/ \nTentative Schedule below:\nMCE2023-Tenative-Schedule \nRegistration Costs\nIn person Registration:  $150\nVirtual Registration:  $95 \nHotel:  Crowne Plaza St. Louis Airport \nRate:  $130/night \nNote: Please make your hotel reservation by Wednesday\, April 5th.
URL:https://www.ame-church.com/event/2023-annual-meeting-of-the-ministries-in-christian-education/
CATEGORIES:Conferences
END:VEVENT
BEGIN:VEVENT
DTSTART;VALUE=DATE:20230413
DTEND;VALUE=DATE:20230416
DTSTAMP:20260423T031422
CREATED:20230404T145421Z
LAST-MODIFIED:20230404T145421Z
UID:8036-1681344000-1681603199@www.ame-church.com
SUMMARY:Ministries of Christian Education (MCE) 2023 Annual Meeting
DESCRIPTION:
URL:https://www.ame-church.com/event/ministries-of-christian-education-mce-2023-annual-meeting/
CATEGORIES:Meetings
END:VEVENT
BEGIN:VEVENT
DTSTART;VALUE=DATE:20230413
DTEND;VALUE=DATE:20230414
DTSTAMP:20260423T031422
CREATED:20230119T211905Z
LAST-MODIFIED:20230404T183256Z
UID:8018-1681344000-1681430399@www.ame-church.com
SUMMARY:2023 AME Church Connectional Day of Prayer
DESCRIPTION:Bishop Sarah Frances Davis Covenant Keepers and Intercessors (BSFDCK&I) \nAME Church Connectional Day of Prayer (Hybrid) \nApril 13\, 2023 \nBethel AME Church \nSan Antonio\, TX \nHybrid – via Zoom and in-person \nMore details to come!
URL:https://www.ame-church.com/event/2023-ame-church-connectional-day-of-prayer/
CATEGORIES:Meetings
END:VEVENT
BEGIN:VEVENT
DTSTART;VALUE=DATE:20230123
DTEND;VALUE=DATE:20230127
DTSTAMP:20260423T031422
CREATED:20230104T182606Z
LAST-MODIFIED:20230104T182722Z
UID:8003-1674432000-1674777599@www.ame-church.com
SUMMARY:35th Annual Church Growth Conference 2023
DESCRIPTION:
URL:https://www.ame-church.com/event/35th-annual-church-growth-conference-2023/
LOCATION:Greater Bethel AME Church – Nashville\, 1300 South Street\, Nashville\, TN\, 37212\, United States
CATEGORIES:Conferences
END:VEVENT
BEGIN:VEVENT
DTSTART;VALUE=DATE:20221108
DTEND;VALUE=DATE:20221109
DTSTAMP:20260423T031422
CREATED:20221007T153858Z
LAST-MODIFIED:20221007T153858Z
UID:7986-1667865600-1667951999@www.ame-church.com
SUMMARY:Election Day
DESCRIPTION:
URL:https://www.ame-church.com/event/election-day/
END:VEVENT
END:VCALENDAR