BEGIN:VCALENDAR
VERSION:2.0
PRODID:-//AME Church - ECPv6.15.20//NONSGML v1.0//EN
CALSCALE:GREGORIAN
METHOD:PUBLISH
X-WR-CALNAME:AME Church
X-ORIGINAL-URL:https://www.ame-church.com
X-WR-CALDESC:Events for AME Church
REFRESH-INTERVAL;VALUE=DURATION:PT1H
X-Robots-Tag:noindex
X-PUBLISHED-TTL:PT1H
BEGIN:VTIMEZONE
TZID:America/Chicago
BEGIN:DAYLIGHT
TZOFFSETFROM:-0600
TZOFFSETTO:-0500
TZNAME:CDT
DTSTART:20240310T080000
END:DAYLIGHT
BEGIN:STANDARD
TZOFFSETFROM:-0500
TZOFFSETTO:-0600
TZNAME:CST
DTSTART:20241103T070000
END:STANDARD
BEGIN:DAYLIGHT
TZOFFSETFROM:-0600
TZOFFSETTO:-0500
TZNAME:CDT
DTSTART:20250309T080000
END:DAYLIGHT
BEGIN:STANDARD
TZOFFSETFROM:-0500
TZOFFSETTO:-0600
TZNAME:CST
DTSTART:20251102T070000
END:STANDARD
BEGIN:DAYLIGHT
TZOFFSETFROM:-0600
TZOFFSETTO:-0500
TZNAME:CDT
DTSTART:20260308T080000
END:DAYLIGHT
BEGIN:STANDARD
TZOFFSETFROM:-0500
TZOFFSETTO:-0600
TZNAME:CST
DTSTART:20261101T070000
END:STANDARD
END:VTIMEZONE
BEGIN:VEVENT
DTSTART;TZID=America/Chicago:20250430T000000
DTEND;TZID=America/Chicago:20250503T000000
DTSTAMP:20260425T082116
CREATED:20250205T211438Z
LAST-MODIFIED:20250205T211438Z
UID:8634-1745971200-1746230400@www.ame-church.com
SUMMARY:Sixth Episcopal District: Macon Annual Conference
DESCRIPTION:
URL:https://www.ame-church.com/event/sixth-episcopal-district-macon-annual-conference/
LOCATION:Greater Allen AME Church\, Macon\, GA
CATEGORIES:Connectional Calendar
END:VEVENT
BEGIN:VEVENT
DTSTART;TZID=America/Chicago:20250501T000000
DTEND;TZID=America/Chicago:20250503T000000
DTSTAMP:20260425T082116
CREATED:20250205T211438Z
LAST-MODIFIED:20250205T211438Z
UID:8635-1746057600-1746230400@www.ame-church.com
SUMMARY:Eighth Episcopal District Mid-Year Convocation
DESCRIPTION:
URL:https://www.ame-church.com/event/eighth-episcopal-district-mid-year-convocation/
LOCATION:Bonner Campbell\, Edwards\, MS
CATEGORIES:Connectional Calendar
END:VEVENT
BEGIN:VEVENT
DTSTART;TZID=America/Chicago:20250501T000000
DTEND;TZID=America/Chicago:20250503T000000
DTSTAMP:20260425T082116
CREATED:20250205T211438Z
LAST-MODIFIED:20250205T211438Z
UID:8636-1746057600-1746230400@www.ame-church.com
SUMMARY:First Episcopal District: Western New York Annual Conference
DESCRIPTION:
URL:https://www.ame-church.com/event/first-episcopal-district-western-new-york-annual-conference/
LOCATION:Bethel AME Church\, Buffalo\, NY
CATEGORIES:Connectional Calendar
END:VEVENT
BEGIN:VEVENT
DTSTART;TZID=America/Chicago:20250510T140000
DTEND;TZID=America/Chicago:20250510T190000
DTSTAMP:20260425T082116
CREATED:20250422T190849Z
LAST-MODIFIED:20250423T153311Z
UID:8722-1746885600-1746903600@www.ame-church.com
SUMMARY:2025 Global Development Council Virtual Meeting
DESCRIPTION:The meeting credentials are below:\n \n\nhttps://us06web.zoom.us/j/86717150458?pwd=sIonqW0eSftlWiJlYqyfjg77UtOnhZ.1 \nMeeting ID: 867 1715 0458\nPasscode: 015557
URL:https://www.ame-church.com/event/2025-global-development-council-virtual-meeting/
CATEGORIES:Connectional Calendar
END:VEVENT
BEGIN:VEVENT
DTSTART;VALUE=DATE:20250513
DTEND;VALUE=DATE:20250517
DTSTAMP:20260425T082116
CREATED:20250205T211439Z
LAST-MODIFIED:20250214T160937Z
UID:8637-1747094400-1747439999@www.ame-church.com
SUMMARY:Sixth Episcopal District: Atlanta-North Georgia Annual Conference
DESCRIPTION:
URL:https://www.ame-church.com/event/sixth-episcopal-district-atlanta-north-georgia-annual-conference/
LOCATION:Saint Phillip AME Church\, Atlanta\, GA
CATEGORIES:Connectional Calendar
END:VEVENT
BEGIN:VEVENT
DTSTART;TZID=America/Chicago:20250529T000000
DTEND;TZID=America/Chicago:20250601T000000
DTSTAMP:20260425T082116
CREATED:20250205T211638Z
LAST-MODIFIED:20250205T211638Z
UID:8638-1748476800-1748736000@www.ame-church.com
SUMMARY:First Episcopal District: Philadelphia Annual Conference
DESCRIPTION:
URL:https://www.ame-church.com/event/first-episcopal-district-philadelphia-annual-conference/
LOCATION:Bethel AME Church\, Lancaster\, PA\, Lancaster Marriot at Penn Square\, Lancaster\, PA
CATEGORIES:Connectional Calendar
END:VEVENT
END:VCALENDAR