BEGIN:VCALENDAR
VERSION:2.0
PRODID:-//AME Church - ECPv6.15.20//NONSGML v1.0//EN
CALSCALE:GREGORIAN
METHOD:PUBLISH
X-WR-CALNAME:AME Church
X-ORIGINAL-URL:https://www.ame-church.com
X-WR-CALDESC:Events for AME Church
REFRESH-INTERVAL;VALUE=DURATION:PT1H
X-Robots-Tag:noindex
X-PUBLISHED-TTL:PT1H
BEGIN:VTIMEZONE
TZID:America/Chicago
BEGIN:DAYLIGHT
TZOFFSETFROM:-0600
TZOFFSETTO:-0500
TZNAME:CDT
DTSTART:20240310T080000
END:DAYLIGHT
BEGIN:STANDARD
TZOFFSETFROM:-0500
TZOFFSETTO:-0600
TZNAME:CST
DTSTART:20241103T070000
END:STANDARD
BEGIN:DAYLIGHT
TZOFFSETFROM:-0600
TZOFFSETTO:-0500
TZNAME:CDT
DTSTART:20250309T080000
END:DAYLIGHT
BEGIN:STANDARD
TZOFFSETFROM:-0500
TZOFFSETTO:-0600
TZNAME:CST
DTSTART:20251102T070000
END:STANDARD
BEGIN:DAYLIGHT
TZOFFSETFROM:-0600
TZOFFSETTO:-0500
TZNAME:CDT
DTSTART:20260308T080000
END:DAYLIGHT
BEGIN:STANDARD
TZOFFSETFROM:-0500
TZOFFSETTO:-0600
TZNAME:CST
DTSTART:20261101T070000
END:STANDARD
END:VTIMEZONE
BEGIN:VEVENT
DTSTART;TZID=America/Chicago:20250616T000000
DTEND;TZID=America/Chicago:20250618T000000
DTSTAMP:20260425T070821
CREATED:20250205T211638Z
LAST-MODIFIED:20250411T131142Z
UID:8639-1750032000-1750204800@www.ame-church.com
SUMMARY:AME Church General Board Meeting
DESCRIPTION:Registration Now: https://form.jotform.com/250481196433154 \nHotel Reservations: https://bookings.omnihotels.com/event/oklahoma-city/council-of-bishops-general-board-meeti \nInvestiture: https://ssbeaman.wixsite.com/beamaninvestiture25 \n 
URL:https://www.ame-church.com/event/ame-church-general-board-meeting/
LOCATION:Omni Oklahoma City Hotel\, Oklahoma City\, OK
CATEGORIES:Connectional Calendar
END:VEVENT
BEGIN:VEVENT
DTSTART;TZID=America/Chicago:20250617T000000
DTEND;TZID=America/Chicago:20250617T000000
DTSTAMP:20260425T070821
CREATED:20250205T211639Z
LAST-MODIFIED:20250205T211639Z
UID:8640-1750118400-1750118400@www.ame-church.com
SUMMARY:10th Anniversary of the Mother Emanuel Shooting
DESCRIPTION:
URL:https://www.ame-church.com/event/10th-anniversary-of-the-mother-emanuel-shooting/
CATEGORIES:Connectional Calendar
END:VEVENT
BEGIN:VEVENT
DTSTART;VALUE=DATE:20250622
DTEND;VALUE=DATE:20250623
DTSTAMP:20260425T070821
CREATED:20250205T211639Z
LAST-MODIFIED:20250214T161403Z
UID:8641-1750550400-1750636799@www.ame-church.com
SUMMARY:Emanuel Nine Remembrance (Observed)
DESCRIPTION:
URL:https://www.ame-church.com/event/emanuel-nine-remembrance-observed/
LOCATION:Local Congregations
CATEGORIES:Connectional Calendar
END:VEVENT
END:VCALENDAR