BEGIN:VCALENDAR
VERSION:2.0
PRODID:-//AME Church - ECPv6.15.20//NONSGML v1.0//EN
CALSCALE:GREGORIAN
METHOD:PUBLISH
X-ORIGINAL-URL:https://www.ame-church.com
X-WR-CALDESC:Events for AME Church
REFRESH-INTERVAL;VALUE=DURATION:PT1H
X-Robots-Tag:noindex
X-PUBLISHED-TTL:PT1H
BEGIN:VTIMEZONE
TZID:America/Chicago
BEGIN:DAYLIGHT
TZOFFSETFROM:-0600
TZOFFSETTO:-0500
TZNAME:CDT
DTSTART:20240310T080000
END:DAYLIGHT
BEGIN:STANDARD
TZOFFSETFROM:-0500
TZOFFSETTO:-0600
TZNAME:CST
DTSTART:20241103T070000
END:STANDARD
BEGIN:DAYLIGHT
TZOFFSETFROM:-0600
TZOFFSETTO:-0500
TZNAME:CDT
DTSTART:20250309T080000
END:DAYLIGHT
BEGIN:STANDARD
TZOFFSETFROM:-0500
TZOFFSETTO:-0600
TZNAME:CST
DTSTART:20251102T070000
END:STANDARD
BEGIN:DAYLIGHT
TZOFFSETFROM:-0600
TZOFFSETTO:-0500
TZNAME:CDT
DTSTART:20260308T080000
END:DAYLIGHT
BEGIN:STANDARD
TZOFFSETFROM:-0500
TZOFFSETTO:-0600
TZNAME:CST
DTSTART:20261101T070000
END:STANDARD
END:VTIMEZONE
BEGIN:VEVENT
DTSTART;TZID=America/Chicago:20250707T000000
DTEND;TZID=America/Chicago:20250711T000000
DTSTAMP:20260425T054936
CREATED:20250205T211639Z
LAST-MODIFIED:20250205T211639Z
UID:8642-1751846400-1752192000@www.ame-church.com
SUMMARY:Connectional Lay Biennial
DESCRIPTION:
URL:https://www.ame-church.com/event/connectional-lay-biennial/
LOCATION:Atlanta Marriott Marquis Hotel\, Atlanta\, GA
CATEGORIES:Connectional Calendar
END:VEVENT
BEGIN:VEVENT
DTSTART;TZID=America/Chicago:20250711T000000
DTEND;TZID=America/Chicago:20250713T000000
DTSTAMP:20260425T054936
CREATED:20250205T211739Z
LAST-MODIFIED:20250205T211739Z
UID:8643-1752192000-1752364800@www.ame-church.com
SUMMARY:Connectional Young People's and Children's Division Leadership Training Institute & Executive Board Meeting
DESCRIPTION:
URL:https://www.ame-church.com/event/connectional-young-peoples-and-childrens-division-leadership-training-institute-executive-board-meeting/
LOCATION:Atlanta Marriott Marquis Hotel\, Atlanta\, GA
CATEGORIES:Connectional Calendar
END:VEVENT
END:VCALENDAR