BEGIN:VCALENDAR
VERSION:2.0
PRODID:-//AME Church - ECPv6.15.20//NONSGML v1.0//EN
CALSCALE:GREGORIAN
METHOD:PUBLISH
X-WR-CALNAME:AME Church
X-ORIGINAL-URL:https://www.ame-church.com
X-WR-CALDESC:Events for AME Church
REFRESH-INTERVAL;VALUE=DURATION:PT1H
X-Robots-Tag:noindex
X-PUBLISHED-TTL:PT1H
BEGIN:VTIMEZONE
TZID:America/Chicago
BEGIN:DAYLIGHT
TZOFFSETFROM:-0600
TZOFFSETTO:-0500
TZNAME:CDT
DTSTART:20240310T080000
END:DAYLIGHT
BEGIN:STANDARD
TZOFFSETFROM:-0500
TZOFFSETTO:-0600
TZNAME:CST
DTSTART:20241103T070000
END:STANDARD
BEGIN:DAYLIGHT
TZOFFSETFROM:-0600
TZOFFSETTO:-0500
TZNAME:CDT
DTSTART:20250309T080000
END:DAYLIGHT
BEGIN:STANDARD
TZOFFSETFROM:-0500
TZOFFSETTO:-0600
TZNAME:CST
DTSTART:20251102T070000
END:STANDARD
BEGIN:DAYLIGHT
TZOFFSETFROM:-0600
TZOFFSETTO:-0500
TZNAME:CDT
DTSTART:20260308T080000
END:DAYLIGHT
BEGIN:STANDARD
TZOFFSETFROM:-0500
TZOFFSETTO:-0600
TZNAME:CST
DTSTART:20261101T070000
END:STANDARD
END:VTIMEZONE
BEGIN:VEVENT
DTSTART;TZID=America/Chicago:20250828T000000
DTEND;TZID=America/Chicago:20250829T000000
DTSTAMP:20260423T090533
CREATED:20250205T211739Z
LAST-MODIFIED:20250205T211739Z
UID:8644-1756339200-1756425600@www.ame-church.com
SUMMARY:Twelfth Episcopal District: Oklahoma State Annual Conference
DESCRIPTION:
URL:https://www.ame-church.com/event/twelfth-episcopal-district-oklahoma-state-annual-conference/
LOCATION:Allen Chapel AME Church\, Oklahoma City\, OK
CATEGORIES:Connectional Calendar
END:VEVENT
END:VCALENDAR