BEGIN:VCALENDAR
VERSION:2.0
PRODID:-//AME Church - ECPv6.15.20//NONSGML v1.0//EN
CALSCALE:GREGORIAN
METHOD:PUBLISH
X-ORIGINAL-URL:https://www.ame-church.com
X-WR-CALDESC:Events for AME Church
REFRESH-INTERVAL;VALUE=DURATION:PT1H
X-Robots-Tag:noindex
X-PUBLISHED-TTL:PT1H
BEGIN:VTIMEZONE
TZID:America/Chicago
BEGIN:DAYLIGHT
TZOFFSETFROM:-0600
TZOFFSETTO:-0500
TZNAME:CDT
DTSTART:20240310T080000
END:DAYLIGHT
BEGIN:STANDARD
TZOFFSETFROM:-0500
TZOFFSETTO:-0600
TZNAME:CST
DTSTART:20241103T070000
END:STANDARD
BEGIN:DAYLIGHT
TZOFFSETFROM:-0600
TZOFFSETTO:-0500
TZNAME:CDT
DTSTART:20250309T080000
END:DAYLIGHT
BEGIN:STANDARD
TZOFFSETFROM:-0500
TZOFFSETTO:-0600
TZNAME:CST
DTSTART:20251102T070000
END:STANDARD
BEGIN:DAYLIGHT
TZOFFSETFROM:-0600
TZOFFSETTO:-0500
TZNAME:CDT
DTSTART:20260308T080000
END:DAYLIGHT
BEGIN:STANDARD
TZOFFSETFROM:-0500
TZOFFSETTO:-0600
TZNAME:CST
DTSTART:20261101T070000
END:STANDARD
END:VTIMEZONE
BEGIN:VEVENT
DTSTART;TZID=America/Chicago:20250902T000000
DTEND;TZID=America/Chicago:20250906T000000
DTSTAMP:20260423T061228
CREATED:20250205T211739Z
LAST-MODIFIED:20250205T211739Z
UID:8645-1756771200-1757116800@www.ame-church.com
SUMMARY:Thirteenth Episcopal District: East Tennessee Annual Conference
DESCRIPTION:
URL:https://www.ame-church.com/event/thirteenth-episcopal-district-east-tennessee-annual-conference/
LOCATION:St. Paul AME Church\, Fayetteville\, TN
CATEGORIES:Connectional Calendar
END:VEVENT
BEGIN:VEVENT
DTSTART;TZID=America/Chicago:20250910T000000
DTEND;TZID=America/Chicago:20250913T000000
DTSTAMP:20260423T061228
CREATED:20250205T211740Z
LAST-MODIFIED:20250214T142651Z
UID:8646-1757462400-1757721600@www.ame-church.com
SUMMARY:Seventh Episcopal District: Palmetto South Carolina Annual Conference
DESCRIPTION:
URL:https://www.ame-church.com/event/seventh-episcopal-district-palmetto-south-carolina-annual-conference/
LOCATION:Ebenezer AME Church\, Charleston\, SC
CATEGORIES:Connectional Calendar
END:VEVENT
BEGIN:VEVENT
DTSTART;VALUE=DATE:20250911
DTEND;VALUE=DATE:20250913
DTSTAMP:20260423T061228
CREATED:20250205T211940Z
LAST-MODIFIED:20250214T170031Z
UID:8649-1757548800-1757721599@www.ame-church.com
SUMMARY:Twelfth Episcopal District: West Arkansas Annual Conference
DESCRIPTION:
URL:https://www.ame-church.com/event/twelfth-episcopal-district-west-arkansas-annual-conference/
LOCATION:Bethel AME Church Malvern\, AK\, Malvern\, AK
CATEGORIES:Connectional Calendar
END:VEVENT
BEGIN:VEVENT
DTSTART;TZID=America/Chicago:20250911T000000
DTEND;TZID=America/Chicago:20250913T000000
DTSTAMP:20260423T061228
CREATED:20250205T211940Z
LAST-MODIFIED:20250205T211940Z
UID:8648-1757548800-1757721600@www.ame-church.com
SUMMARY:Eighth Episcopal District: Mississippi Annual Conference
DESCRIPTION:
URL:https://www.ame-church.com/event/eighth-episcopal-district-mississippi-annual-conference/
LOCATION:Zion Chapel AME Church\, Natchez\, MS
CATEGORIES:Connectional Calendar
END:VEVENT
BEGIN:VEVENT
DTSTART;VALUE=DATE:20250911
DTEND;VALUE=DATE:20250914
DTSTAMP:20260423T061228
CREATED:20250205T211740Z
LAST-MODIFIED:20250214T161726Z
UID:8647-1757548800-1757807999@www.ame-church.com
SUMMARY:Third Episcopal District: Pittsburg - West Virginia Annual Conference
DESCRIPTION:
URL:https://www.ame-church.com/event/third-episcopal-district-pittsburg-west-virginia-annual-conference/
LOCATION:TBA
CATEGORIES:Connectional Calendar
END:VEVENT
BEGIN:VEVENT
DTSTART;TZID=America/Chicago:20250916T000000
DTEND;TZID=America/Chicago:20250920T000000
DTSTAMP:20260423T061228
CREATED:20250205T211940Z
LAST-MODIFIED:20250205T211940Z
UID:8650-1757980800-1758326400@www.ame-church.com
SUMMARY:Tenth Episcopal District: Northwest Texas Annual Conference
DESCRIPTION:
URL:https://www.ame-church.com/event/tenth-episcopal-district-northwest-texas-annual-conference/
LOCATION:Anderson Chapel AME Church\, Killeen\, TX
CATEGORIES:Connectional Calendar
END:VEVENT
BEGIN:VEVENT
DTSTART;TZID=America/Chicago:20250916T000000
DTEND;TZID=America/Chicago:20250920T000000
DTSTAMP:20260423T061228
CREATED:20250205T211941Z
LAST-MODIFIED:20250214T170249Z
UID:8651-1757980800-1758326400@www.ame-church.com
SUMMARY:Thirteenth Episcopal District: Kentucky Annual Conference
DESCRIPTION:
URL:https://www.ame-church.com/event/thirteenth-episcopal-district-kentucky-annual-conference/
LOCATION:St. Paul AME Church Richmond\, KY\, Richmond\, KY
CATEGORIES:Connectional Calendar
END:VEVENT
BEGIN:VEVENT
DTSTART;TZID=America/Chicago:20250917T000000
DTEND;TZID=America/Chicago:20250920T000000
DTSTAMP:20260423T061228
CREATED:20250205T211941Z
LAST-MODIFIED:20250205T211941Z
UID:8652-1758067200-1758326400@www.ame-church.com
SUMMARY:Seventh Episcopal District: South Carolina Annual Conference
DESCRIPTION:
URL:https://www.ame-church.com/event/seventh-episcopal-district-south-carolina-annual-conference/
LOCATION:Campbell Chapel AME Church\, Bluffton\, SC
CATEGORIES:Connectional Calendar
END:VEVENT
BEGIN:VEVENT
DTSTART;TZID=America/Chicago:20250925T000000
DTEND;TZID=America/Chicago:20250926T000000
DTSTAMP:20260423T061228
CREATED:20250205T212141Z
LAST-MODIFIED:20250205T212141Z
UID:8655-1758758400-1758844800@www.ame-church.com
SUMMARY:Twelfth Episcopal District: East Arkansas Annual Conference
DESCRIPTION:
URL:https://www.ame-church.com/event/twelfth-episcopal-district-east-arkansas-annual-conference/
LOCATION:Pilgrim Rest AME Church\, Monticello\, AR
CATEGORIES:Connectional Calendar
END:VEVENT
BEGIN:VEVENT
DTSTART;TZID=America/Chicago:20250925T000000
DTEND;TZID=America/Chicago:20250927T000000
DTSTAMP:20260423T061228
CREATED:20250205T212141Z
LAST-MODIFIED:20250214T170325Z
UID:8653-1758758400-1758931200@www.ame-church.com
SUMMARY:Third Episcopal District: Ohio - South Ohio Annual Conference
DESCRIPTION:
URL:https://www.ame-church.com/event/third-episcopal-district-ohio-south-ohio-annual-conference/
LOCATION:TBA
CATEGORIES:Connectional Calendar
END:VEVENT
BEGIN:VEVENT
DTSTART;TZID=America/Chicago:20250925T000000
DTEND;TZID=America/Chicago:20250927T000000
DTSTAMP:20260423T061228
CREATED:20250205T212141Z
LAST-MODIFIED:20250205T212141Z
UID:8654-1758758400-1758931200@www.ame-church.com
SUMMARY:Eighth Episcopal District: North Mississippi Annual Conference
DESCRIPTION:
URL:https://www.ame-church.com/event/eighth-episcopal-district-north-mississippi-annual-conference/
LOCATION:Greater Solomon Chapel AME Church\, Cleveland\, MS
CATEGORIES:Connectional Calendar
END:VEVENT
BEGIN:VEVENT
DTSTART;TZID=America/Chicago:20250930T000000
DTEND;TZID=America/Chicago:20251004T000000
DTSTAMP:20260423T061228
CREATED:20250205T212141Z
LAST-MODIFIED:20250205T212141Z
UID:8656-1759190400-1759536000@www.ame-church.com
SUMMARY:Tenth Episcopal District: North Texas Annual Conference
DESCRIPTION:
URL:https://www.ame-church.com/event/tenth-episcopal-district-north-texas-annual-conference/
LOCATION:Smith Chapel AME Church\, Dallas\, TX
CATEGORIES:Connectional Calendar
END:VEVENT
END:VCALENDAR